BEGIN:VCALENDAR
VERSION:2.0
PRODID:icalendar-ruby
CALSCALE:GREGORIAN
METHOD:PUBLISH
BEGIN:VEVENT
DTSTAMP:20260422T012500Z
UID:17-522411@eccmarion.com
DTSTART:20260930T223000Z
DTEND:20260930T233000Z
CLASS:PUBLIC
CREATED:20260421T205502
DESCRIPTION:Youth
LAST-MODIFIED:20260421T205502
LOCATION:Eastgate Community Church
SUMMARY:Youth
URL;VALUE=URI:https://www.eccmarion.com/events/youth/2026-09-30
ATTACH;FILENAME=IMG_4970.jpeg;FMTTYPE=image/jpeg:https://dq5pwpg1q8ru0.clou
 dfront.net/2024/09/23/11/55/52/e87ec260-9746-4bf4-9bd7-44a1519b5043/IMG_49
 70.jpeg
END:VEVENT
END:VCALENDAR
