BEGIN:VCALENDAR
VERSION:2.0
PRODID:icalendar-ruby
CALSCALE:GREGORIAN
METHOD:PUBLISH
BEGIN:VEVENT
DTSTAMP:20260422T065529Z
UID:10-522143@eccmarion.com
DTSTART:20261018T143000Z
DTEND:20261018T160000Z
CLASS:PUBLIC
CREATED:20260421T205502
DESCRIPTION:
LAST-MODIFIED:20260421T205502
LOCATION:Eastgate Community Church 
SUMMARY:Worship
URL;VALUE=URI:https://www.eccmarion.com/events/worship/2026-10-18
END:VEVENT
END:VCALENDAR
