BEGIN:VCALENDAR
VERSION:2.0
PRODID:icalendar-ruby
CALSCALE:GREGORIAN
METHOD:PUBLISH
BEGIN:VEVENT
DTSTAMP:20260422T021740Z
UID:10-522140@eccmarion.com
DTSTART:20260927T143000Z
DTEND:20260927T160000Z
CLASS:PUBLIC
CREATED:20260421T205502
DESCRIPTION:
LAST-MODIFIED:20260421T205502
LOCATION:Eastgate Community Church 
SUMMARY:Worship
URL;VALUE=URI:https://www.eccmarion.com/events/worship/2026-09-27
END:VEVENT
END:VCALENDAR
