BEGIN:VCALENDAR
VERSION:2.0
PRODID:icalendar-ruby
CALSCALE:GREGORIAN
METHOD:PUBLISH
BEGIN:VEVENT
DTSTAMP:20260421T222820Z
UID:10-521708@eccmarion.com
DTSTART:20260913T143000Z
DTEND:20260913T160000Z
CLASS:PUBLIC
CREATED:20260421T181622
DESCRIPTION:
LAST-MODIFIED:20260421T181622
LOCATION:Eastgate Community Church 
SUMMARY:Worship
URL;VALUE=URI:https://www.eccmarion.com/events/worship/2026-09-13
END:VEVENT
END:VCALENDAR
